BEGIN:VCALENDAR
VERSION:2.0
PRODID:-//Ulvenhout Leeft - ECPv6.15.13.1//NONSGML v1.0//EN
CALSCALE:GREGORIAN
METHOD:PUBLISH
X-WR-CALNAME:Ulvenhout Leeft
X-ORIGINAL-URL:https://ulvenhoutleeft.nl
X-WR-CALDESC:Evenementen voor Ulvenhout Leeft
REFRESH-INTERVAL;VALUE=DURATION:PT1H
X-Robots-Tag:noindex
X-PUBLISHED-TTL:PT1H
BEGIN:VTIMEZONE
TZID:Europe/Amsterdam
BEGIN:DAYLIGHT
TZOFFSETFROM:+0100
TZOFFSETTO:+0200
TZNAME:CEST
DTSTART:20220327T010000
END:DAYLIGHT
BEGIN:STANDARD
TZOFFSETFROM:+0200
TZOFFSETTO:+0100
TZNAME:CET
DTSTART:20221030T010000
END:STANDARD
BEGIN:DAYLIGHT
TZOFFSETFROM:+0100
TZOFFSETTO:+0200
TZNAME:CEST
DTSTART:20230326T010000
END:DAYLIGHT
BEGIN:STANDARD
TZOFFSETFROM:+0200
TZOFFSETTO:+0100
TZNAME:CET
DTSTART:20231029T010000
END:STANDARD
BEGIN:DAYLIGHT
TZOFFSETFROM:+0100
TZOFFSETTO:+0200
TZNAME:CEST
DTSTART:20240331T010000
END:DAYLIGHT
BEGIN:STANDARD
TZOFFSETFROM:+0200
TZOFFSETTO:+0100
TZNAME:CET
DTSTART:20241027T010000
END:STANDARD
BEGIN:DAYLIGHT
TZOFFSETFROM:+0100
TZOFFSETTO:+0200
TZNAME:CEST
DTSTART:20250330T010000
END:DAYLIGHT
BEGIN:STANDARD
TZOFFSETFROM:+0200
TZOFFSETTO:+0100
TZNAME:CET
DTSTART:20251026T010000
END:STANDARD
BEGIN:DAYLIGHT
TZOFFSETFROM:+0100
TZOFFSETTO:+0200
TZNAME:CEST
DTSTART:20260329T010000
END:DAYLIGHT
BEGIN:STANDARD
TZOFFSETFROM:+0200
TZOFFSETTO:+0100
TZNAME:CET
DTSTART:20261025T010000
END:STANDARD
BEGIN:DAYLIGHT
TZOFFSETFROM:+0100
TZOFFSETTO:+0200
TZNAME:CEST
DTSTART:20270328T010000
END:DAYLIGHT
BEGIN:STANDARD
TZOFFSETFROM:+0200
TZOFFSETTO:+0100
TZNAME:CET
DTSTART:20271031T010000
END:STANDARD
END:VTIMEZONE
BEGIN:VEVENT
DTSTART;TZID=Europe/Amsterdam:20231124T190000
DTEND;TZID=Europe/Amsterdam:20231124T220000
DTSTAMP:20260422T235222
CREATED:20231101T102503Z
LAST-MODIFIED:20231101T102756Z
UID:8803-1700852400-1700863200@ulvenhoutleeft.nl
SUMMARY:Poolparty
DESCRIPTION:Woon je in Ulvenhout en zit je op de middelbare school? Plons dan swingend op 24 november in de Wildert \nOm 19:00 uur vertrekken we vanaf Jeugdland per partybus dansend naar zwembad de Wildert in Zundert.\nHier ga je samen met je vrienden een avondje discozwemmen. Ga lekker los op de laatste hits en maak vooral heel veel plezier met elkaar.\nOm 22 uur vertrekken we\, wederom met de partybus\, richting Ulvenhout. \nZit je op de middelbare school en woon je in Ulvenhout? Neem je vrienden mee en zorg dat jullie erbij zijn!\nBe there! Koop je ticket hier
URL:https://ulvenhoutleeft.nl/evenementen/poolparty/
ATTACH;FMTTYPE=image/jpeg:https://ulvenhoutleeft.nl/wp-content/uploads/2023/09/1.jpg
END:VEVENT
BEGIN:VEVENT
DTSTART;VALUE=DATE:20231216
DTEND;VALUE=DATE:20240108
DTSTAMP:20260422T235222
CREATED:20220111T151122Z
LAST-MODIFIED:20230127T090818Z
UID:8282-1702684800-1704671999@ulvenhoutleeft.nl
SUMMARY:Kerststal en Wensboom
DESCRIPTION:Ieder jaar verrijst tijdens de Kerstperiode de grote Kerststal bij de Pekhoeve. Sinds enkele jaren wordt er naast de Kerststal ook een Wensboom opgezet. Doel van deze boom is om inwoners van Ulvenhout de gelegenheid te geven hun wensen voor het dorp te delen. Ook kun je mensen herdenken die helaas niet meer in ons midden zijn. Dit jaar wordt de boom op 17 december geplaatst. \nZo zijn verschillende wensen inmiddels gerealiseerd:\n* Een groep basisscholieren wilde graag een huisdier in de klas. Dit was uiteraard niet mogelijk. In plaats daarvan heeft de klas een geitje bij ’t Waaijke geadopteerd.\n* De bewoners van De Donk kregen met Pasen een versierde paastak en chocolade eitjes. De takken waren versierd door leerlingen van groep 8.\n* Twee lieve buren die al wat op leeftijd zijn\, ontvingen een mooie bos bloemen om zo de stille coronatijd wat op te fleuren.\n* Veel inwoners hebben op een mooie zaterdag tijdens de “World clean up day” het dorp opgeschoond en samen heel wat zakken met vuil bij elkaar geraapt. \nDe werkgroep van de Wens- en gedachtenboom is erg enthousiast en zit boordevol energie om nog meer wensen te laten vervullen\, want wij geloven in onze lijfspreuk: “Sommige wensen komen écht uit!”\nWelke wens ga jij in de boom hangen? \n 
URL:https://ulvenhoutleeft.nl/evenementen/kerststal-en-wensboom/
LOCATION:Kermisterrein de Pekhoeve\, Ulvenhout\, Nederland
ATTACH;FMTTYPE=image/png:https://ulvenhoutleeft.nl/wp-content/uploads/2022/01/wensboom.png
END:VEVENT
BEGIN:VEVENT
DTSTART;TZID=Europe/Amsterdam:20231223T183000
DTEND;TZID=Europe/Amsterdam:20231223T220000
DTSTAMP:20260422T235222
CREATED:20231115T083039Z
LAST-MODIFIED:20231112T113449Z
UID:8828-1703356200-1703368800@ulvenhoutleeft.nl
SUMMARY:Curling Toernooi U'HOOD
DESCRIPTION:23 december om 18.30 uur is de ijsbaan voor de jeugd. Zij spelen dan onderling het Curling-toernooi.\nSchrijf je team in en schuif iedereen van de baan! \nCurling toernooi
URL:https://ulvenhoutleeft.nl/evenementen/curling-toernooi-uhood/
ATTACH;FMTTYPE=image/png:https://ulvenhoutleeft.nl/wp-content/uploads/2023/11/1.png
END:VEVENT
BEGIN:VEVENT
DTSTART;TZID=Europe/Amsterdam:20240123T190000
DTEND;TZID=Europe/Amsterdam:20240123T220000
DTSTAMP:20260422T235222
CREATED:20240123T185424Z
LAST-MODIFIED:20240123T185438Z
UID:8891-1706036400-1706047200@ulvenhoutleeft.nl
SUMMARY:Pubquiz U'HOOD
DESCRIPTION:De eerste\, enige echte dorpsquiz voor de jeugd van Ulvenhout komt eraan!
URL:https://ulvenhoutleeft.nl/evenementen/pubquiz-uhood/
LOCATION:Jeugdland\, Jeugdland 1\, Ulvenhout\, 4851AT\, Nederland
ATTACH;FMTTYPE=image/png:https://ulvenhoutleeft.nl/wp-content/uploads/2023/12/Schermafbeelding-2023-12-14-om-06.34.32.png
END:VEVENT
BEGIN:VEVENT
DTSTART;TZID=Europe/Amsterdam:20240313T190000
DTEND;TZID=Europe/Amsterdam:20240313T190000
DTSTAMP:20260422T235222
CREATED:20240123T190224Z
LAST-MODIFIED:20240221T164848Z
UID:8895-1710356400-1710356400@ulvenhoutleeft.nl
SUMMARY:Businessborrel
DESCRIPTION:Wi zijn deze avond te gast bij JG Sound & Vision. \nMeer informatie volgt
URL:https://ulvenhoutleeft.nl/evenementen/businessborrel/
LOCATION:JG Sound & Vision\, Ulvenhout
ATTACH;FMTTYPE=image/png:https://ulvenhoutleeft.nl/wp-content/uploads/2024/01/Schermafbeelding-2024-02-21-om-17.47.47.png
END:VEVENT
BEGIN:VEVENT
DTSTART;VALUE=DATE:20240323
DTEND;VALUE=DATE:20240324
DTSTAMP:20260422T235222
CREATED:20240123T185819Z
LAST-MODIFIED:20240322T124525Z
UID:8893-1711152000-1711238399@ulvenhoutleeft.nl
SUMMARY:Ulvenhoutse Opschoondag
DESCRIPTION:In navolging van de landelijke opschoonden\, gaan we ook in Ulvenhout het dorp weer schoonvegen!\nMet elkaar maken we Ulvenhout nog mooier!\nDus trommel je kinderen / ouders / buren / vrienden  op en ga met elkaar jouw buurt schoonmaken. \nHelp je mee?!
URL:https://ulvenhoutleeft.nl/evenementen/ulvenhoutse-opschoondag/
ATTACH;FMTTYPE=image/png:https://ulvenhoutleeft.nl/wp-content/uploads/2021/07/2-e1706036217706.png
END:VEVENT
BEGIN:VEVENT
DTSTART;TZID=Europe/Amsterdam:20240401T100000
DTEND;TZID=Europe/Amsterdam:20240402T110000
DTSTAMP:20260422T235222
CREATED:20220111T145144Z
LAST-MODIFIED:20240301T085258Z
UID:8265-1711965600-1712055600@ulvenhoutleeft.nl
SUMMARY:Paaseieren zoeken 1 april
DESCRIPTION:Paaseieren zoeken!\nNatuurlijk brengt de Paashaas weer een bezoek aan Ulvenhout. Op 1 april\, geen grap\, gaat de paashaas weer eieren verstoppen voor alle kinderen uit Ulvenhout in het Grimhuijsenpark.\nMaandagochtend 1 april brengt de Paashaas weer een bezoek aan Ulvenhout. Hij komt ook dit jaar eieren verstoppen in het Grimhuijsenpark\, midden in het dorp dus. Alle kinderen zijn welkom om mee te zoeken! \nMeld je aan voor 27 maart! AANMELDEN\nDe kinderen worden per leeftijdscategorie ingedeeld. Het programma start om 10:00u en zal rond 11:00u afgelopen zijn.\nEr is koffie\, thee en limonade voor iedereen tijdens het wachten of tellen van de eieren. \n 
URL:https://ulvenhoutleeft.nl/evenementen/paaseieren-zoeken/
LOCATION:Grimhuysenpark Ulvenhout\, Dorpstraat\, Ulvenhout\, Nederland
ATTACH;FMTTYPE=image/png:https://ulvenhoutleeft.nl/wp-content/uploads/2022/01/paaseieren-zoeken-1-APRIL.png
END:VEVENT
BEGIN:VEVENT
DTSTART;TZID=Europe/Amsterdam:20240703T180000
DTEND;TZID=Europe/Amsterdam:20240703T190000
DTSTAMP:20260422T235222
CREATED:20220111T145449Z
LAST-MODIFIED:20240123T191829Z
UID:8267-1720029600-1720033200@ulvenhoutleeft.nl
SUMMARY:Zomervakantie inluiden met ijsjes!
DESCRIPTION:Samen luiden we de vakantie in op 3 juli!\nVoor alle Ulvenhoutse kinderen ligt er een ijsje klaar\, smullen maar.\nTot 3 juli tussen 18 – 19 uur bij de speeltuin van de Pekhoeve.
URL:https://ulvenhoutleeft.nl/evenementen/zomervakantie-inluiden/
ATTACH;FMTTYPE=image/png:https://ulvenhoutleeft.nl/wp-content/uploads/2022/01/zomervakantie-inluiden-aankondiging-website-klein.png
END:VEVENT
BEGIN:VEVENT
DTSTART;TZID=Europe/Amsterdam:20240705T140000
DTEND;TZID=Europe/Amsterdam:20240705T170000
DTSTAMP:20260422T235222
CREATED:20240123T192041Z
LAST-MODIFIED:20240221T164503Z
UID:8905-1720188000-1720198800@ulvenhoutleeft.nl
SUMMARY:Bourgondische middag KBO
DESCRIPTION:Meer info volgt \n  \nI.s.m. KBO
URL:https://ulvenhoutleeft.nl/evenementen/bourgondische-middag-kbo/
LOCATION:Pekhoeve
ATTACH;FMTTYPE=image/png:https://ulvenhoutleeft.nl/wp-content/uploads/2024/01/bourgondische-middag-e1708533880640.png
END:VEVENT
BEGIN:VEVENT
DTSTART;VALUE=DATE:20240710
DTEND;VALUE=DATE:20240713
DTSTAMP:20260422T235222
CREATED:20220111T150416Z
LAST-MODIFIED:20240123T192424Z
UID:8270-1720569600-1720828799@ulvenhoutleeft.nl
SUMMARY:Ulvenhouts Kinderfestival
DESCRIPTION:Het Ulvenhouts Kinderfestival is een 3-daags festival speciaal voor alle basisschoolleerlingen in Ulvenhout. UK biedt alle basisschoolkinderen (groep 1 t/m 8) in Ulvenhout drie dagen lang veel plezier! De kinderen kunnen tijdens deze drie dagen\, in groepsverband allerlei leuke activiteiten doen. Het kinderfestival is zonder ouders\, de begeleiding wordt verzorgd door vrijwilligers. De festivalactiviteiten zijn sociaal\, educatief\, speels en cultureel van aard. \nVoor meer info: https://ulvenhoutskinderfestival.nl \n 
URL:https://ulvenhoutleeft.nl/evenementen/ulvenhouts-kinderfestival/
LOCATION:Jeugdland\, Jeugdland 1\, Ulvenhout\, 4851AT\, Nederland
ATTACH;FMTTYPE=image/png:https://ulvenhoutleeft.nl/wp-content/uploads/2022/01/kinderfestival-aankondiging-website-klein-e1706037799545.png
END:VEVENT
BEGIN:VEVENT
DTSTART;TZID=Europe/Amsterdam:20240822T080000
DTEND;TZID=Europe/Amsterdam:20240826T170000
DTSTAMP:20260422T235222
CREATED:20240221T163957Z
LAST-MODIFIED:20240221T163957Z
UID:9099-1724313600-1724691600@ulvenhoutleeft.nl
SUMMARY:Kermis
DESCRIPTION:Van 22 t/m 26 augustus 2024 is er weer kermis in ons dorp. \n 
URL:https://ulvenhoutleeft.nl/evenementen/kermis/
LOCATION:Pekhoeve
ATTACH;FMTTYPE=image/png:https://ulvenhoutleeft.nl/wp-content/uploads/2024/02/kermis.png
END:VEVENT
BEGIN:VEVENT
DTSTART;VALUE=DATE:20240824
DTEND;VALUE=DATE:20240826
DTSTAMP:20260422T235222
CREATED:20230618T115903Z
LAST-MODIFIED:20240621T083819Z
UID:8276-1724457600-1724630399@ulvenhoutleeft.nl
SUMMARY:Kermisfeesten | ULVENhOUTDOOR
DESCRIPTION:Op zaterdag 24 augustus bouwen we samen weer een feestje op het Pekhoeve terrein tijdens de kermis. Be there! \nMet optredens van: \nDe Fik ErinZanger Kafke Gekkenhuys Zanger MelvinTommie-C \nOp zondag organiseren we de bourgondiche middag. Een leuk uitje met het gezin. Entree is gratis.Kom heerlijk borrelenen en happen\, bijpraten en genieten van optreden van: \nRaymon Hermans Coverband Backstage Frank van WeertUL DJ Team \n 
URL:https://ulvenhoutleeft.nl/evenementen/kermisfeesten-2/
LOCATION:Kermisterrein de Pekhoeve\, Ulvenhout\, Nederland
ATTACH;FMTTYPE=image/jpeg:https://ulvenhoutleeft.nl/wp-content/uploads/2022/01/kermis2021.jpg
END:VEVENT
BEGIN:VEVENT
DTSTART;TZID=Europe/Amsterdam:20241026T183000
DTEND;TZID=Europe/Amsterdam:20241027T203000
DTSTAMP:20260422T235222
CREATED:20220111T150958Z
LAST-MODIFIED:20241020T120940Z
UID:8280-1729967400-1730061000@ulvenhoutleeft.nl
SUMMARY:Halloween Trick Or Treat
DESCRIPTION:Griezel je mee op 26 en 27 oktober?\nNatuurlijk vieren wij Halloween in Ulvenhout! Ook dit jaar kunnen de Ulvenhoutse basisschoolleerlingen langs de deuren om lekkers te verzamelen bij de deuren van 18.30-20.30\nDe wat stoerdere Ulvenhouters (advies vanaf 8 jaar) kunnen zondag 27 oktober een écht potje griezelen tijdens de spooktocht. \nDe route is weer gemaakt: ROUTE \nOpgeven voor de route kan tot vrijdag 25 oktober: spookhuis voor de route aanmelden \n 
URL:https://ulvenhoutleeft.nl/evenementen/halloween-spooktocht-en-trick-or-treat/
ATTACH;FMTTYPE=image/png:https://ulvenhoutleeft.nl/wp-content/uploads/2022/01/halloween-aankonding-.png
END:VEVENT
BEGIN:VEVENT
DTSTART;TZID=Europe/Amsterdam:20241117T080000
DTEND;TZID=Europe/Amsterdam:20241117T170000
DTSTAMP:20260422T235222
CREATED:20240221T161450Z
LAST-MODIFIED:20240221T161609Z
UID:9092-1731830400-1731862800@ulvenhoutleeft.nl
SUMMARY:Sinterklaasintocht
DESCRIPTION:De Sinterklaasintocht vindt dit jaar op 17 november plaats. Reserveer alvast deze datum.\nVerdere info volgt nog.
URL:https://ulvenhoutleeft.nl/evenementen/sinterklaasintocht/
LOCATION:Pekhoeve
ATTACH;FMTTYPE=image/png:https://ulvenhoutleeft.nl/wp-content/uploads/2024/02/sinterklaas.png
END:VEVENT
BEGIN:VEVENT
DTSTART;VALUE=DATE:20241214
DTEND;VALUE=DATE:20250106
DTSTAMP:20260422T235222
CREATED:20220111T151221Z
LAST-MODIFIED:20240221T163653Z
UID:8284-1734134400-1736121599@ulvenhoutleeft.nl
SUMMARY:Ulvenhout On Ice
DESCRIPTION:Ulvenhout on Ice is een initiatief van de Ondernemersvereniging Ulvenhout (OVU) en Ulvenhout Leeft. Ons doel is om bij te dragen aan verbinding in Ulvenhout door het organiseren van een jaarlijkse winteractiviteit\, waarbij ijsplezier voor de jeugd voorop staat. Rond de jaarwisseling zal drie weken lang een schaatsbaan op het Pekhoeveterrein komen te staan. Hieromheen worden diverse activiteiten georganiseerd voor jong en oud zoals een curlingtoernooi\, discoschaatsen\, après ski\, nieuwjaarsborrel en nog vele andere activiteiten. \nBekijk de agenda op www.ulvenhoutonice.nl
URL:https://ulvenhoutleeft.nl/evenementen/ulvenhout-on-ice/
LOCATION:Kermisterrein de Pekhoeve\, Ulvenhout\, Nederland
ATTACH;FMTTYPE=image/png:https://ulvenhoutleeft.nl/wp-content/uploads/2022/01/schaatsbaan-beeld.png
END:VEVENT
BEGIN:VEVENT
DTSTART;TZID=Europe/Amsterdam:20250830T140000
DTEND;TZID=Europe/Amsterdam:20250831T210000
DTSTAMP:20260422T235222
CREATED:20250728T191547Z
LAST-MODIFIED:20250821T044556Z
UID:10017-1756562400-1756674000@ulvenhoutleeft.nl
SUMMARY:UlvenHoutdoor en Bourgondische middag - Kermis 2025
DESCRIPTION:Op zaterdag 30 en zondag 31 augustus bouwen we de Pekhoeve weer om tot Dorpsfeest tijdens de jaarlijkse kermis.\nDit jaar veranderen we de boel een beetje om het nog leuker te maken. 1 grote tent\, 1 groot terras\, 2 dagen gratis dorpsfeest. \n  \n\nZaterdag 30 augustus\n\nDorpsfeest met optredens\, cornhole competitie en heel veel feest. \nNIEUW: Vanaf 14u grote cornhole competitie! \nSchrijf je hier in met je eigen team van 4 spelers\nVanaf 17u optredens van: \n\nThe Containers\nFerry de Lits\nUL DJ Team met het rad van fortuin\n\nZondag 31 augustus\n\nNIEUW: Start de dag sportief en kom bij ons bijtanken om 11u.\nKopje koffie\, iets lekker voor er bij en misschien nog 1 biertje voor je gaat omkleden voor de middag? \nMeer info\nVanaf 14u – Bourgondische middag\nInmiddels bij iedereen bekend: De Bourgondische Middag!\nLekker eten en drinken\, bijpraten over de vakantie\, gezellige muziek en vermaak voor jong en oud.\nEerst gezellig over de kermis en daarna op het mega terras een drankje doen en met het hele gezin bourgondisch eten. \nMet optredens van: \n\nCoverband Backstage\nDe Houten Kelen (Ulvenhouts eigen verrassing!)\nTommie C\nUL DJ Team
URL:https://ulvenhoutleeft.nl/evenementen/ulvenhoutdoor-kermis-2025/
LOCATION:Pekhoeve
ATTACH;FMTTYPE=image/jpeg:https://ulvenhoutleeft.nl/wp-content/uploads/2025/07/Ulvenhoutdoor2025-Programma.jpeg
END:VEVENT
BEGIN:VEVENT
DTSTART;TZID=Europe/Amsterdam:20250831T110000
DTEND;TZID=Europe/Amsterdam:20250831T130000
DTSTAMP:20260422T235222
CREATED:20250728T192737Z
LAST-MODIFIED:20250728T193152Z
UID:10022-1756638000-1756645200@ulvenhoutleeft.nl
SUMMARY:11:00u - Uitpuffen na het sporten!
DESCRIPTION:Na een zaterdagavond feest wordt zondagochtend door iedereen natuurlijk gebruikt om aan de conditie te werken. Even sportief zijn! \nMaar na het wandelen\, fietsen\, hardlopen\, sjoelen\, spinnen\, yoga of work-out moet er ook bijgetankt worden. Dat kan bij ons! \nKom na het sporten om 11u een gratis bakje koffie of thee met versnapering scoren. En wellicht kun je daarna alvast even voorproeven voor je gaat omkleden voor de Bourgondische middag! \n 
URL:https://ulvenhoutleeft.nl/evenementen/uitpuffen-na-het-sporten/
LOCATION:Pekhoeve
ATTACH;FMTTYPE=image/jpeg:https://ulvenhoutleeft.nl/wp-content/uploads/2025/07/UL-uitpuffen.jpeg
END:VEVENT
BEGIN:VEVENT
DTSTART;TZID=Europe/Amsterdam:20250913T110000
DTEND;TZID=Europe/Amsterdam:20250914T160000
DTSTAMP:20260422T235222
CREATED:20250821T045334Z
LAST-MODIFIED:20250821T045645Z
UID:10052-1757761200-1757865600@ulvenhoutleeft.nl
SUMMARY:13&14 sept: Vlooienmarkt 2025 - door Jeugdraad Ulvenhout
DESCRIPTION:Al meer dan 50 jaar zet de Jeugdraad Ulvenhout samen met lokale verenigingen\, waaronder Ulvenhout Leeft\, een grootse tweedaagse vlooienmarkt op touw. Op zaterdag 13 en zondag 14 september wordt ons dorp weer omgetoverd tot een paradijs voor snuffelaars\, met de Pekhoeve als middelpunt van alle actie. Hier kun je op zoek naar verborgen juweeltjes en unieke schatten.  \nDoel van de Vlooienmarkt is om geld in te zamelen voor verenigingen die activiteiten organiseren voor de jeugd in Ulvenhout. Ulvenhout Leeft is 1 van de verenigingen die zich hiervoor inzetten. Iedereen kan zijn spullen doneren\, maar ook komen helpen als vrijwilliger. Je helpt daarmee de Vlooienmarkt\, de verenigingen en geeft ook nog eens oude spullen een nieuwe kans. \n13 & 14 september 2025\n11.00 tot 16.00 uur\n\n\nPekhoeve \nDorpstraat 94\n4851 CN\nUlvenhout\n\n\n\nEntree: 3\,00 euro \nkinderen t/m 12 gratis\n\nVoor meer informatie over inleveren en meehelpen kijk hier: \nVlooienmarkt Ulvenhout
URL:https://ulvenhoutleeft.nl/evenementen/vlooienmarkt-2025-door-jeugdraad-ulvenhout/
LOCATION:Pekhoeve
ATTACH;FMTTYPE=image/jpeg:https://ulvenhoutleeft.nl/wp-content/uploads/2025/08/images.jpeg
END:VEVENT
BEGIN:VEVENT
DTSTART;TZID=Europe/Amsterdam:20251031T183000
DTEND;TZID=Europe/Amsterdam:20251031T203000
DTSTAMP:20260422T235222
CREATED:20250923T192226Z
LAST-MODIFIED:20250923T193751Z
UID:10061-1761935400-1761942600@ulvenhoutleeft.nl
SUMMARY:31 Okt - Halloween Trick or Treat
DESCRIPTION:Trick or Treat \nTrick or Treat langs de deuren voor alle jeugd in Ulvenhout. \nIeder huis in Ulvenhout kan zich aanmelden als Spookhuis.\nBen je van plan om je huis te versieren en mogen de kinderen hier op bezoek komen\, meld je dan hieronder aan.\nWij stellen een kaart samen met alle spookhuizen waar iedereen langs kan lopen deze avond. \nTip: Beleef gezellig met familie\, vrienden of de buren deze avond in jouw Spookhuis! \nZie hier voor meer info
URL:https://ulvenhoutleeft.nl/evenementen/31-okt-halloween-trick-or-treat/
LOCATION:Ulvenhout\, Dorpstraat 94\, Ulvenhout\, Noord-Brabant\, 4851CN\, Nederland
ATTACH;FMTTYPE=image/jpeg:https://ulvenhoutleeft.nl/wp-content/uploads/2025/09/UL-Halloween-uil.jpg
END:VEVENT
BEGIN:VEVENT
DTSTART;TZID=Europe/Amsterdam:20251101T180000
DTEND;TZID=Europe/Amsterdam:20251101T210000
DTSTAMP:20260422T235222
CREATED:20250923T192711Z
LAST-MODIFIED:20250923T193822Z
UID:10063-1762020000-1762030800@ulvenhoutleeft.nl
SUMMARY:1 Nov - Halloween Spooktocht
DESCRIPTION:Jumbo Spooktocht\nNa het succes van vele jaren zetten we ook dit jaar weer een grote spooktocht uit. Door het donkere Ulvenhout….\nJumbo Ulvenhout zorgt voor een vreselijke start van deze avond met een nieuwe versie van hun Spookhuis.\nWist je dat nog niet? \nJumbo Ulvenhout heeft een eigen Spookhuis met ieder jaar een eigen verhaal. Iedereen is welkom om hier een bezoek aan te komen brengen. Wel op eigen risico natuurlijk. \n  \nKijk hier voor meer info
URL:https://ulvenhoutleeft.nl/evenementen/1-nov-halloweeen-spooktocht/
LOCATION:Jumbo Ulvenhout\, Chaamseweg 1\, Ulvenhout\, 4851 SM\, Netherlands
ATTACH;FMTTYPE=image/jpeg:https://ulvenhoutleeft.nl/wp-content/uploads/2025/09/UL-Halloween-uil.jpg
END:VEVENT
BEGIN:VEVENT
DTSTART;TZID=Europe/Amsterdam:20260321T100000
DTEND;TZID=Europe/Amsterdam:20260321T110000
DTSTAMP:20260422T235222
CREATED:20260224T201329Z
LAST-MODIFIED:20260315T184159Z
UID:10073-1774087200-1774090800@ulvenhoutleeft.nl
SUMMARY:Ulvenhoutse Opschoondag
DESCRIPTION:Help samen met ons mee het dorp een voorjaars opschoning te geven. \nOm 10:00u verzamelt Ulvenhout Leeft bij de Pekhoeve. We lopen in groepjes door het dorp om allemaal een zak zwerfafval te verzamelen.\nIs de zak vol? Dan verzamelen we weer terug bij de Pekhoeve om een beker limonade\, koffie en wat lekkers te nuttigen. \nHeb je geen tijd om mee te doen? Loop zelf even een rondje door de straat of buurt op deze dag! \nVoor alle kinderen is er een bingokaart\, om te helpen zoeken naar wat voor afval er nu eigenlijk ligt. En heb je alles afgestreept op de kaart\, dan ben je een echte opschoonheld! \nDownload hier de bingokaart
URL:https://ulvenhoutleeft.nl/evenementen/ulvenhoutse-opschoondag-2/
LOCATION:Ulvenhout\, Dorpstraat 94\, Ulvenhout\, Noord-Brabant\, 4851CN\, Nederland
ATTACH;FMTTYPE=image/jpeg:https://ulvenhoutleeft.nl/wp-content/uploads/2026/02/1x1-AWE-03.jpg
END:VEVENT
BEGIN:VEVENT
DTSTART;TZID=Europe/Amsterdam:20260406T100000
DTEND;TZID=Europe/Amsterdam:20260406T110000
DTSTAMP:20260422T235222
CREATED:20260311T203939Z
LAST-MODIFIED:20260315T183901Z
UID:10083-1775469600-1775473200@ulvenhoutleeft.nl
SUMMARY:Paaseieren zoeken
DESCRIPTION:Maandag 2e Paasdag – De Paashaas in het Grimhuysenpark\nMaandagochtend 6 april brengt de Paashaas weer een bezoek aan Ulvenhout. Ulvenhout Leeft nodigt alle kinderen uit om mee te komen zoeken naar paaseieren in het Grimhuysenpark\, midden in het dorp dus. \nGeef je op door het formulier in te vullen via deze knop: \nGeef je hier op!\nMeld je aan voor 3 april! \n\nDe kinderen worden per leeftijdscategorie ingedeeld. Het programma start om 10:00u en zal rond 11:00u afgelopen zijn.\n\n\nEr is koffie\, thee en limonade voor iedereen tijdens het wachten of tellen van de eieren.
URL:https://ulvenhoutleeft.nl/evenementen/paaseieren-zoeken-2/
LOCATION:Grimhuysenpark Ulvenhout\, Dorpstraat\, Ulvenhout\, Nederland
ATTACH;FMTTYPE=image/jpeg:https://ulvenhoutleeft.nl/wp-content/uploads/2026/03/WhatsApp-Image-2026-03-03-at-11.45.20.jpeg
END:VEVENT
BEGIN:VEVENT
DTSTART;TZID=Europe/Amsterdam:20260416T193000
DTEND;TZID=Europe/Amsterdam:20260416T220000
DTSTAMP:20260422T235222
CREATED:20260322T075724Z
LAST-MODIFIED:20260322T075724Z
UID:10111-1776367800-1776376800@ulvenhoutleeft.nl
SUMMARY:Businessborrel XL met Tony Bosma
DESCRIPTION:Om ondernemend Ulvenhout bij elkaar te brengen organiseren wij van Ulvenhout Leeft onze Businessborrel XL met gastspreker Tony Bosma.\n\nVoor wie: alle ondernemers in en rondom Ulvenhout\nDatum: donderdag 16 april\nLocatie: Landgoed Nuwenhuys bij de Ulvenhoutse ondernemer Annina Logtestijn.\nInloop: 19:30u (aanvang 20:00u)\nAdres: Landgoed Nuwenhuys\, Reeptiend 50 te Breda (net over de Mark)\nVervoer: kom zo veel mogelijk op de fiets er is beperkt parkeergelegenheid. \nProgramma\n\nAnnina vertelt over de missie en visie van Landgoed Nuwenhuys; een inspirerende plek in het prachtige Markdal.\nDaarna is het woord aan gastspreker Tony Bosma. Tony zal op inspirerende wijze vertellen over de inzet van AI voor alle ondernemers.\nAansluitend natuurlijk een netwerkborrel met een hapje en een drankje!\n\nBorrelt u mee?\nMeld je aan!
URL:https://ulvenhoutleeft.nl/evenementen/businessborrel-xl-met-tony-bosma/
LOCATION:Landgoed Nuwenhuys\, Reeptiend 50\, Breda\, Netherlands
ATTACH;FMTTYPE=image/jpeg:https://ulvenhoutleeft.nl/wp-content/uploads/2026/03/Sponsorborrel-XL-UL26.jpeg
END:VEVENT
BEGIN:VEVENT
DTSTART;TZID=Europe/Amsterdam:20260526T180000
DTEND;TZID=Europe/Amsterdam:20260529T210000
DTSTAMP:20260422T235222
CREATED:20260322T074245Z
LAST-MODIFIED:20260322T074346Z
UID:10095-1779818400-1780088400@ulvenhoutleeft.nl
SUMMARY:Avond wandelvierdaagse
DESCRIPTION:Wandel je (weer) mee?\nOp 26\, 27\, 28 en 29 mei 2026 organiseert Ulvenhout Leeft de Avondwandelvierdaagse. Dit jaar staat het wandelfeest volledig in het teken van het thema ‘dwars door het dorp’. Samen lopen we door vertrouwde straten\, ontdekken we de mooiste paadjes en wandelen we zelfs dwars door verschillende Ulvenhoutse organisaties en bedrijven. Een vierdaags wandelfeest voor jong en oud\, speciaal voor alle inwoners van Ulvenhout en omstreken. Een mooie gelegenheid om samen in beweging te komen! \nAlle info vind je hier
URL:https://ulvenhoutleeft.nl/evenementen/avond-wandelvierdaagse/
LOCATION:Pekhoeve
ATTACH;FMTTYPE=image/jpeg:https://ulvenhoutleeft.nl/wp-content/uploads/2025/05/2025-AVD-Uhout-Dag-2-klein-26.jpg
END:VEVENT
BEGIN:VEVENT
DTSTART;TZID=Europe/Amsterdam:20260829T133000
DTEND;TZID=Europe/Amsterdam:20260829T230000
DTSTAMP:20260422T235222
CREATED:20260322T074546Z
LAST-MODIFIED:20260322T075801Z
UID:10099-1788010200-1788044400@ulvenhoutleeft.nl
SUMMARY:Ulvenhoutdoor / Cornhole
DESCRIPTION:Meer info volgt snel!
URL:https://ulvenhoutleeft.nl/evenementen/ulvenhoutdoor-cornhole/
LOCATION:Kermisterrein de Pekhoeve\, Ulvenhout\, Nederland
ATTACH;FMTTYPE=image/jpeg:https://ulvenhoutleeft.nl/wp-content/uploads/2026/03/WhatsApp-Image-2026-03-22-at-08.52.18-2.jpeg
END:VEVENT
BEGIN:VEVENT
DTSTART;TZID=Europe/Amsterdam:20260830T140000
DTEND;TZID=Europe/Amsterdam:20260830T210000
DTSTAMP:20260422T235222
CREATED:20260322T074637Z
LAST-MODIFIED:20260322T075423Z
UID:10101-1788098400-1788123600@ulvenhoutleeft.nl
SUMMARY:Bourgondische middag
DESCRIPTION:Meer info volgt snel!
URL:https://ulvenhoutleeft.nl/evenementen/bourgondische-middag/
LOCATION:Kermisterrein de Pekhoeve\, Ulvenhout\, Nederland
ATTACH;FMTTYPE=image/jpeg:https://ulvenhoutleeft.nl/wp-content/uploads/2026/03/WhatsApp-Image-2026-03-22-at-08.52.19.jpeg
END:VEVENT
END:VCALENDAR