BEGIN:VCALENDAR
VERSION:2.0
PRODID:-//Ulvenhout Leeft - ECPv6.15.13.1//NONSGML v1.0//EN
CALSCALE:GREGORIAN
METHOD:PUBLISH
X-WR-CALNAME:Ulvenhout Leeft
X-ORIGINAL-URL:https://ulvenhoutleeft.nl
X-WR-CALDESC:Evenementen voor Ulvenhout Leeft
REFRESH-INTERVAL;VALUE=DURATION:PT1H
X-Robots-Tag:noindex
X-PUBLISHED-TTL:PT1H
BEGIN:VTIMEZONE
TZID:Europe/Amsterdam
BEGIN:DAYLIGHT
TZOFFSETFROM:+0100
TZOFFSETTO:+0200
TZNAME:CEST
DTSTART:20210328T010000
END:DAYLIGHT
BEGIN:STANDARD
TZOFFSETFROM:+0200
TZOFFSETTO:+0100
TZNAME:CET
DTSTART:20211031T010000
END:STANDARD
BEGIN:DAYLIGHT
TZOFFSETFROM:+0100
TZOFFSETTO:+0200
TZNAME:CEST
DTSTART:20220327T010000
END:DAYLIGHT
BEGIN:STANDARD
TZOFFSETFROM:+0200
TZOFFSETTO:+0100
TZNAME:CET
DTSTART:20221030T010000
END:STANDARD
BEGIN:DAYLIGHT
TZOFFSETFROM:+0100
TZOFFSETTO:+0200
TZNAME:CEST
DTSTART:20230326T010000
END:DAYLIGHT
BEGIN:STANDARD
TZOFFSETFROM:+0200
TZOFFSETTO:+0100
TZNAME:CET
DTSTART:20231029T010000
END:STANDARD
BEGIN:DAYLIGHT
TZOFFSETFROM:+0100
TZOFFSETTO:+0200
TZNAME:CEST
DTSTART:20240331T010000
END:DAYLIGHT
BEGIN:STANDARD
TZOFFSETFROM:+0200
TZOFFSETTO:+0100
TZNAME:CET
DTSTART:20241027T010000
END:STANDARD
END:VTIMEZONE
BEGIN:VEVENT
DTSTART;TZID=Europe/Amsterdam:20230405T193000
DTEND;TZID=Europe/Amsterdam:20230405T223000
DTSTAMP:20260422T020052
CREATED:20230125T123528Z
LAST-MODIFIED:20230226T135531Z
UID:8665-1680723000-1680733800@ulvenhoutleeft.nl
SUMMARY:Ulvenhout Leeft Businessborrel
DESCRIPTION:Op 5 april zijn wij te gast bij de Ulvenhoutse ondernemer Pieter Dirven van de Smaakspecialist. Ulvenhout Leeft nodigt alle Ulvenhoutse ondernemers uit voor een gezellige netwerk avond. \nPieter geeft deze avond een rondleiding over het prachtige landgoed Luchtenburg en vertelt ons meer over zijn droom: met z’n allen voor de wereld gaan staan. Met zijn bedrijf ‘de Smaakspecialist’ wil hij hier aan bijdragen. De Smaakspecialist ontwikkelt\, produceert en distribueert duurzame levensmiddelen. Zij geloven in de kracht van biologisch eten en haar positieve invloed op de gezondheid van de mens en de wereld. Met aandacht en liefde voor mens\, dier en natuur maken zij de mooiste biologische producten voor in het supermarktschap\, grotendeels onder eigen merken zoals Smaakt\, BioToday en RAW Organic Food. \nAansluitend biedt Pieter ons een hapje en een drankje aan. \nBorrel je mee? Meld je aan! \nWanneer: 5 april 2023\nAanvang: inloop vanaf 19:30 (start 20:00u)\nWaar: De Smaakspecialist\, Landgoed Luchtenburg Ulvenhout
URL:https://ulvenhoutleeft.nl/evenementen/ulvenhout-leeft-businessborrel/
LOCATION:Noord-Brabant
ATTACH;FMTTYPE=image/jpeg:https://ulvenhoutleeft.nl/wp-content/uploads/2023/01/UL-businessborrel050423.jpg
END:VEVENT
BEGIN:VEVENT
DTSTART;VALUE=DATE:20230318
DTEND;VALUE=DATE:20230319
DTSTAMP:20260422T020052
CREATED:20210719T110514Z
LAST-MODIFIED:20230226T140201Z
UID:8223-1679097600-1679183999@ulvenhoutleeft.nl
SUMMARY:Ulvenhoutse Opschoondag
DESCRIPTION:GA JIJ OOK ULVENHOUT OPSCHONEN TIJDENS DE LANDELIJKE OPSCHOONDAG?! \nKom om 10 uur naar de Pekhoeve\, ontvang een vuilniszak en kinderen krijgen ook nog iets lekkers. Maak een leuke foto en deel deze op Facebook of Instagram en tag ons! Met jouw foto maak je kans op een leuke verrassing! \n-> FACEBOOK: @Ulvenhout Leeft \n-> Instagram @Ulvenhoutleeft \nOf gebruik: #OpschoondagUlvenhout \nMeer informatie op Nederlandschoon.nl
URL:https://ulvenhoutleeft.nl/evenementen/opschoondag/
LOCATION:Ulvenhout\, Dorpstraat 94\, Ulvenhout\, Noord-Brabant\, 4851CN\, Nederland
ATTACH;FMTTYPE=image/png:https://ulvenhoutleeft.nl/wp-content/uploads/2021/07/2-e1706036217706.png
END:VEVENT
BEGIN:VEVENT
DTSTART;TZID=Europe/Amsterdam:20221224T080000
DTEND;TZID=Europe/Amsterdam:20230108T170000
DTSTAMP:20260422T020052
CREATED:20221111T055256Z
LAST-MODIFIED:20221223T113240Z
UID:8654-1671868800-1673197200@ulvenhoutleeft.nl
SUMMARY:Kerststallenroute
DESCRIPTION:DE ROUTE\n24 december 2022 t/m 8 januari 2023 \nBen je ook zo aan het genieten van jouw kerstversiering of kerststal? Samen genieten is nog leuker! Van 24 december tot en met 8 januari organiseren wij de kerst(stallen)route. Zet jouw kerstdecoratie\, jouw eigen kerststalcreatie\, jouw kerstversiering\, jouw kerststal van vroeger\, dat exclusieve stalletje of jouw kerststal 2.0 in de spotlights! Meld je aan voor de kerst(stallen)route\, zodat we met elkaar weer kunnen wandelen en genieten in het fijne Ulvenhout.\nVanzelfsprekend wordt de kerststal bij de Pekhoeve\, dit jaar bij Ulvenhout on Ice\, ook in de route opgenomen! En denk al wandelend eens na over wat jij voor Ulvenhout\, een buurvrouw of school zou wensen en voeg jouw wens toe aan de wensboom! Wie weet komt jouw wens uit! \nAANMELDEN KERSTSTALLENROUTE
URL:https://ulvenhoutleeft.nl/evenementen/kerststallenroute/
LOCATION:Noord-Brabant
ATTACH;FMTTYPE=image/png:https://ulvenhoutleeft.nl/wp-content/uploads/2022/11/kerststallenroute.png
END:VEVENT
END:VCALENDAR