BEGIN:VCALENDAR
VERSION:2.0
PRODID:-//Ulvenhout Leeft - ECPv6.15.13.1//NONSGML v1.0//EN
CALSCALE:GREGORIAN
METHOD:PUBLISH
X-WR-CALNAME:Ulvenhout Leeft
X-ORIGINAL-URL:https://ulvenhoutleeft.nl
X-WR-CALDESC:Evenementen voor Ulvenhout Leeft
REFRESH-INTERVAL;VALUE=DURATION:PT1H
X-Robots-Tag:noindex
X-PUBLISHED-TTL:PT1H
BEGIN:VTIMEZONE
TZID:Europe/Amsterdam
BEGIN:DAYLIGHT
TZOFFSETFROM:+0100
TZOFFSETTO:+0200
TZNAME:CEST
DTSTART:20210328T010000
END:DAYLIGHT
BEGIN:STANDARD
TZOFFSETFROM:+0200
TZOFFSETTO:+0100
TZNAME:CET
DTSTART:20211031T010000
END:STANDARD
BEGIN:DAYLIGHT
TZOFFSETFROM:+0100
TZOFFSETTO:+0200
TZNAME:CEST
DTSTART:20220327T010000
END:DAYLIGHT
BEGIN:STANDARD
TZOFFSETFROM:+0200
TZOFFSETTO:+0100
TZNAME:CET
DTSTART:20221030T010000
END:STANDARD
BEGIN:DAYLIGHT
TZOFFSETFROM:+0100
TZOFFSETTO:+0200
TZNAME:CEST
DTSTART:20230326T010000
END:DAYLIGHT
BEGIN:STANDARD
TZOFFSETFROM:+0200
TZOFFSETTO:+0100
TZNAME:CET
DTSTART:20231029T010000
END:STANDARD
BEGIN:DAYLIGHT
TZOFFSETFROM:+0100
TZOFFSETTO:+0200
TZNAME:CEST
DTSTART:20240331T010000
END:DAYLIGHT
BEGIN:STANDARD
TZOFFSETFROM:+0200
TZOFFSETTO:+0100
TZNAME:CET
DTSTART:20241027T010000
END:STANDARD
BEGIN:DAYLIGHT
TZOFFSETFROM:+0100
TZOFFSETTO:+0200
TZNAME:CEST
DTSTART:20250330T010000
END:DAYLIGHT
BEGIN:STANDARD
TZOFFSETFROM:+0200
TZOFFSETTO:+0100
TZNAME:CET
DTSTART:20251026T010000
END:STANDARD
END:VTIMEZONE
BEGIN:VEVENT
DTSTART;TZID=Europe/Amsterdam:20240123T190000
DTEND;TZID=Europe/Amsterdam:20240123T220000
DTSTAMP:20260422T235659
CREATED:20240123T185424Z
LAST-MODIFIED:20240123T185438Z
UID:8891-1706036400-1706047200@ulvenhoutleeft.nl
SUMMARY:Pubquiz U'HOOD
DESCRIPTION:De eerste\, enige echte dorpsquiz voor de jeugd van Ulvenhout komt eraan!
URL:https://ulvenhoutleeft.nl/evenementen/pubquiz-uhood/
LOCATION:Jeugdland\, Jeugdland 1\, Ulvenhout\, 4851AT\, Nederland
ATTACH;FMTTYPE=image/png:https://ulvenhoutleeft.nl/wp-content/uploads/2023/12/Schermafbeelding-2023-12-14-om-06.34.32.png
END:VEVENT
BEGIN:VEVENT
DTSTART;TZID=Europe/Amsterdam:20231223T183000
DTEND;TZID=Europe/Amsterdam:20231223T220000
DTSTAMP:20260422T235659
CREATED:20231115T083039Z
LAST-MODIFIED:20231112T113449Z
UID:8828-1703356200-1703368800@ulvenhoutleeft.nl
SUMMARY:Curling Toernooi U'HOOD
DESCRIPTION:23 december om 18.30 uur is de ijsbaan voor de jeugd. Zij spelen dan onderling het Curling-toernooi.\nSchrijf je team in en schuif iedereen van de baan! \nCurling toernooi
URL:https://ulvenhoutleeft.nl/evenementen/curling-toernooi-uhood/
LOCATION:Noord-Brabant
ATTACH;FMTTYPE=image/png:https://ulvenhoutleeft.nl/wp-content/uploads/2023/11/1.png
END:VEVENT
BEGIN:VEVENT
DTSTART;VALUE=DATE:20231216
DTEND;VALUE=DATE:20240108
DTSTAMP:20260422T235659
CREATED:20220111T151122Z
LAST-MODIFIED:20230127T090818Z
UID:8282-1702684800-1704671999@ulvenhoutleeft.nl
SUMMARY:Kerststal en Wensboom
DESCRIPTION:Ieder jaar verrijst tijdens de Kerstperiode de grote Kerststal bij de Pekhoeve. Sinds enkele jaren wordt er naast de Kerststal ook een Wensboom opgezet. Doel van deze boom is om inwoners van Ulvenhout de gelegenheid te geven hun wensen voor het dorp te delen. Ook kun je mensen herdenken die helaas niet meer in ons midden zijn. Dit jaar wordt de boom op 17 december geplaatst. \nZo zijn verschillende wensen inmiddels gerealiseerd:\n* Een groep basisscholieren wilde graag een huisdier in de klas. Dit was uiteraard niet mogelijk. In plaats daarvan heeft de klas een geitje bij ’t Waaijke geadopteerd.\n* De bewoners van De Donk kregen met Pasen een versierde paastak en chocolade eitjes. De takken waren versierd door leerlingen van groep 8.\n* Twee lieve buren die al wat op leeftijd zijn\, ontvingen een mooie bos bloemen om zo de stille coronatijd wat op te fleuren.\n* Veel inwoners hebben op een mooie zaterdag tijdens de “World clean up day” het dorp opgeschoond en samen heel wat zakken met vuil bij elkaar geraapt. \nDe werkgroep van de Wens- en gedachtenboom is erg enthousiast en zit boordevol energie om nog meer wensen te laten vervullen\, want wij geloven in onze lijfspreuk: “Sommige wensen komen écht uit!”\nWelke wens ga jij in de boom hangen? \n 
URL:https://ulvenhoutleeft.nl/evenementen/kerststal-en-wensboom/
LOCATION:Kermisterrein de Pekhoeve\, Ulvenhout\, Nederland
ATTACH;FMTTYPE=image/png:https://ulvenhoutleeft.nl/wp-content/uploads/2022/01/wensboom.png
END:VEVENT
BEGIN:VEVENT
DTSTART;TZID=Europe/Amsterdam:20231124T190000
DTEND;TZID=Europe/Amsterdam:20231124T220000
DTSTAMP:20260422T235659
CREATED:20231101T102503Z
LAST-MODIFIED:20231101T102756Z
UID:8803-1700852400-1700863200@ulvenhoutleeft.nl
SUMMARY:Poolparty
DESCRIPTION:Woon je in Ulvenhout en zit je op de middelbare school? Plons dan swingend op 24 november in de Wildert \nOm 19:00 uur vertrekken we vanaf Jeugdland per partybus dansend naar zwembad de Wildert in Zundert.\nHier ga je samen met je vrienden een avondje discozwemmen. Ga lekker los op de laatste hits en maak vooral heel veel plezier met elkaar.\nOm 22 uur vertrekken we\, wederom met de partybus\, richting Ulvenhout. \nZit je op de middelbare school en woon je in Ulvenhout? Neem je vrienden mee en zorg dat jullie erbij zijn!\nBe there! Koop je ticket hier
URL:https://ulvenhoutleeft.nl/evenementen/poolparty/
LOCATION:Noord-Brabant
ATTACH;FMTTYPE=image/jpeg:https://ulvenhoutleeft.nl/wp-content/uploads/2023/09/1.jpg
END:VEVENT
BEGIN:VEVENT
DTSTART;TZID=Europe/Amsterdam:20231029T180000
DTEND;TZID=Europe/Amsterdam:20231029T203000
DTSTAMP:20260422T235659
CREATED:20230924T104210Z
LAST-MODIFIED:20231025T195040Z
UID:8769-1698602400-1698611400@ulvenhoutleeft.nl
SUMMARY:Spooktocht
DESCRIPTION:Spooktocht\nBen jij toe aan een potje griezelen? Kom dan naar Jumbo supermarkt. Dit jaar start de spooktocht hier.\nJumbo Supermarkt Ulvenhout heeft voor de spooktocht een écht spookhuis gerealiseerd\nDe spooktocht is niet de plek voor bangerikken. \nHet is helaas niet meer mogelijk om een plekje te reserveren \nAdvies spooktocht: Tot 12 jaar adviseren wij een volwassene mee te laten lopen \nSpooktocht tijdvakken\n18u-18.30u\n19u-19.30u\n20u-20.30u
URL:https://ulvenhoutleeft.nl/evenementen/spooktocht/
LOCATION:Noord-Brabant
ATTACH;FMTTYPE=image/png:https://ulvenhoutleeft.nl/wp-content/uploads/2022/01/halloween-aankonding-.png
END:VEVENT
BEGIN:VEVENT
DTSTART;TZID=Europe/Amsterdam:20230909T120000
DTEND;TZID=Europe/Amsterdam:20230910T170000
DTSTAMP:20260422T235659
CREATED:20230127T091713Z
LAST-MODIFIED:20230127T092043Z
UID:8677-1694260800-1694365200@ulvenhoutleeft.nl
SUMMARY:Vlooienmarkt
DESCRIPTION:Eindelijk kan het weer! De vlooienmarkt!\nOp 9 en 10 september ruilen weer heel veel spullen van eigenaar tijdens de vlooienmarkt op het Pekhoeverterrein.\nGeroemd om het uitgebreide en gesorteerde aanbod en niet onbelangrijk; het gezellige karakter. De ideale gelegenheid om uw verzameling compleet te maken\, dat pareltje voor aan de muur te scoren\, of een volledige uitzet bij elkaar te sprokkelen. U bent tussen 12:00 en 17:00 uur van harte welkom om te snuffelen tussen alle bruikbare spullen die onze dorpsgenoten weer hebben gedoneerd voor het goede doel; Ulvenhoutse jeugdverenigingen. Het aanbod staat prachtig voor u uitgestald… \n 
URL:https://ulvenhoutleeft.nl/evenementen/vlooienmarkt/
LOCATION:Kermisterrein de Pekhoeve\, Ulvenhout\, Nederland
ATTACH;FMTTYPE=image/png:https://ulvenhoutleeft.nl/wp-content/uploads/2023/01/vlooienmarkt-aankondiging-website-klein.png
END:VEVENT
BEGIN:VEVENT
DTSTART;TZID=Europe/Amsterdam:20230405T193000
DTEND;TZID=Europe/Amsterdam:20230405T223000
DTSTAMP:20260422T235659
CREATED:20230125T123528Z
LAST-MODIFIED:20230226T135531Z
UID:8665-1680723000-1680733800@ulvenhoutleeft.nl
SUMMARY:Ulvenhout Leeft Businessborrel
DESCRIPTION:Op 5 april zijn wij te gast bij de Ulvenhoutse ondernemer Pieter Dirven van de Smaakspecialist. Ulvenhout Leeft nodigt alle Ulvenhoutse ondernemers uit voor een gezellige netwerk avond. \nPieter geeft deze avond een rondleiding over het prachtige landgoed Luchtenburg en vertelt ons meer over zijn droom: met z’n allen voor de wereld gaan staan. Met zijn bedrijf ‘de Smaakspecialist’ wil hij hier aan bijdragen. De Smaakspecialist ontwikkelt\, produceert en distribueert duurzame levensmiddelen. Zij geloven in de kracht van biologisch eten en haar positieve invloed op de gezondheid van de mens en de wereld. Met aandacht en liefde voor mens\, dier en natuur maken zij de mooiste biologische producten voor in het supermarktschap\, grotendeels onder eigen merken zoals Smaakt\, BioToday en RAW Organic Food. \nAansluitend biedt Pieter ons een hapje en een drankje aan. \nBorrel je mee? Meld je aan! \nWanneer: 5 april 2023\nAanvang: inloop vanaf 19:30 (start 20:00u)\nWaar: De Smaakspecialist\, Landgoed Luchtenburg Ulvenhout
URL:https://ulvenhoutleeft.nl/evenementen/ulvenhout-leeft-businessborrel/
LOCATION:Noord-Brabant
ATTACH;FMTTYPE=image/jpeg:https://ulvenhoutleeft.nl/wp-content/uploads/2023/01/UL-businessborrel050423.jpg
END:VEVENT
BEGIN:VEVENT
DTSTART;VALUE=DATE:20230318
DTEND;VALUE=DATE:20230319
DTSTAMP:20260422T235659
CREATED:20210719T110514Z
LAST-MODIFIED:20230226T140201Z
UID:8223-1679097600-1679183999@ulvenhoutleeft.nl
SUMMARY:Ulvenhoutse Opschoondag
DESCRIPTION:GA JIJ OOK ULVENHOUT OPSCHONEN TIJDENS DE LANDELIJKE OPSCHOONDAG?! \nKom om 10 uur naar de Pekhoeve\, ontvang een vuilniszak en kinderen krijgen ook nog iets lekkers. Maak een leuke foto en deel deze op Facebook of Instagram en tag ons! Met jouw foto maak je kans op een leuke verrassing! \n-> FACEBOOK: @Ulvenhout Leeft \n-> Instagram @Ulvenhoutleeft \nOf gebruik: #OpschoondagUlvenhout \nMeer informatie op Nederlandschoon.nl
URL:https://ulvenhoutleeft.nl/evenementen/opschoondag/
LOCATION:Ulvenhout\, Dorpstraat 94\, Ulvenhout\, Noord-Brabant\, 4851CN\, Nederland
ATTACH;FMTTYPE=image/png:https://ulvenhoutleeft.nl/wp-content/uploads/2021/07/2-e1706036217706.png
END:VEVENT
BEGIN:VEVENT
DTSTART;TZID=Europe/Amsterdam:20221224T080000
DTEND;TZID=Europe/Amsterdam:20230108T170000
DTSTAMP:20260422T235659
CREATED:20221111T055256Z
LAST-MODIFIED:20221223T113240Z
UID:8654-1671868800-1673197200@ulvenhoutleeft.nl
SUMMARY:Kerststallenroute
DESCRIPTION:DE ROUTE\n24 december 2022 t/m 8 januari 2023 \nBen je ook zo aan het genieten van jouw kerstversiering of kerststal? Samen genieten is nog leuker! Van 24 december tot en met 8 januari organiseren wij de kerst(stallen)route. Zet jouw kerstdecoratie\, jouw eigen kerststalcreatie\, jouw kerstversiering\, jouw kerststal van vroeger\, dat exclusieve stalletje of jouw kerststal 2.0 in de spotlights! Meld je aan voor de kerst(stallen)route\, zodat we met elkaar weer kunnen wandelen en genieten in het fijne Ulvenhout.\nVanzelfsprekend wordt de kerststal bij de Pekhoeve\, dit jaar bij Ulvenhout on Ice\, ook in de route opgenomen! En denk al wandelend eens na over wat jij voor Ulvenhout\, een buurvrouw of school zou wensen en voeg jouw wens toe aan de wensboom! Wie weet komt jouw wens uit! \nAANMELDEN KERSTSTALLENROUTE
URL:https://ulvenhoutleeft.nl/evenementen/kerststallenroute/
LOCATION:Noord-Brabant
ATTACH;FMTTYPE=image/png:https://ulvenhoutleeft.nl/wp-content/uploads/2022/11/kerststallenroute.png
END:VEVENT
END:VCALENDAR