BEGIN:VCALENDAR
VERSION:2.0
PRODID:-//Ulvenhout Leeft - ECPv6.15.13.1//NONSGML v1.0//EN
CALSCALE:GREGORIAN
METHOD:PUBLISH
X-WR-CALNAME:Ulvenhout Leeft
X-ORIGINAL-URL:https://ulvenhoutleeft.nl
X-WR-CALDESC:Evenementen voor Ulvenhout Leeft
REFRESH-INTERVAL;VALUE=DURATION:PT1H
X-Robots-Tag:noindex
X-PUBLISHED-TTL:PT1H
BEGIN:VTIMEZONE
TZID:Europe/Amsterdam
BEGIN:DAYLIGHT
TZOFFSETFROM:+0100
TZOFFSETTO:+0200
TZNAME:CEST
DTSTART:20230326T010000
END:DAYLIGHT
BEGIN:STANDARD
TZOFFSETFROM:+0200
TZOFFSETTO:+0100
TZNAME:CET
DTSTART:20231029T010000
END:STANDARD
BEGIN:DAYLIGHT
TZOFFSETFROM:+0100
TZOFFSETTO:+0200
TZNAME:CEST
DTSTART:20240331T010000
END:DAYLIGHT
BEGIN:STANDARD
TZOFFSETFROM:+0200
TZOFFSETTO:+0100
TZNAME:CET
DTSTART:20241027T010000
END:STANDARD
BEGIN:DAYLIGHT
TZOFFSETFROM:+0100
TZOFFSETTO:+0200
TZNAME:CEST
DTSTART:20250330T010000
END:DAYLIGHT
BEGIN:STANDARD
TZOFFSETFROM:+0200
TZOFFSETTO:+0100
TZNAME:CET
DTSTART:20251026T010000
END:STANDARD
END:VTIMEZONE
BEGIN:VEVENT
DTSTART;TZID=Europe/Amsterdam:20241117T080000
DTEND;TZID=Europe/Amsterdam:20241117T170000
DTSTAMP:20260421T164100
CREATED:20240221T161450Z
LAST-MODIFIED:20240221T161609Z
UID:9092-1731830400-1731862800@ulvenhoutleeft.nl
SUMMARY:Sinterklaasintocht
DESCRIPTION:De Sinterklaasintocht vindt dit jaar op 17 november plaats. Reserveer alvast deze datum.\nVerdere info volgt nog.
URL:https://ulvenhoutleeft.nl/evenementen/sinterklaasintocht/
LOCATION:Pekhoeve
ATTACH;FMTTYPE=image/png:https://ulvenhoutleeft.nl/wp-content/uploads/2024/02/sinterklaas.png
END:VEVENT
END:VCALENDAR